BEGIN:VCALENDAR
VERSION:2.0
PRODID:El Segundo Calendar Creator
METHOD:PUBLISH
BEGIN:VEVENT
DTSTAMP:20230425T142839
DTSTART:20230321T180000
DTEND:20230321T180000
SUMMARY:City Council Meeting
DESCRIPTION:<p style="text-align: center;"><strong>EL SEGUNDO CITY COUNCIL&nbsp;<br>REGULAR MEETING</strong></p><p style="text-align: center;"><strong>TUESDAY, MARCH 21, 2023 at 6:00 PM</strong></p><p style="text-align: center;"><span style="color: rgb(192, 0, 0);">COUNCIL CHAMBER IS OPEN TO THE PUBLIC</span></p><p style="text-align: left;"><strong>Notice of Adjournment:</strong></p><p style="text-align: left;"><span style="text-decoration: underline;"><a href="https://www.elsegundo.gov/home/showpublisheddocument/6781/638150098326170000" target="_blank" id="Adjournment">2023-03-21 CC Agenda - Adjournment</a></span></p><p style="text-align: left;"><strong>Agenda Packet</strong>:</p><p style="text-align: left;"><span style="text-decoration: underline;"><a href="https://www.elsegundo.gov/home/showpublisheddocument/6763/638145766991300000" target="_blank" id="Agenda Packet">2023-03-21 CC Agenda Packet</a></span><br>&nbsp;</p><p style="text-align: left;"><strong>Public Communication</strong>:<br><a href="https://www.elsegundo.gov/home/showpublisheddocument/6721/638139621009000000" target="_blank">2023-03-21 CC Agenda - Public Communication related to Hyperion</a><br><a href="https://www.elsegundo.gov/home/showpublisheddocument/6727/638140349232430000" target="_blank">2023-03-21 CC Agenda - Public Communication related to Hyperion #2</a><br><a href="https://www.elsegundo.gov/home/showpublisheddocument/6783/638150140952530000" target="_blank">2023-03-21 CC Agenda - Public Communication related to Item D12 - Meeting</a><br><a href="https://docs.elsegundo.org/WebLink/DocView.aspx?id=1196367&amp;dbid=0&amp;repo=COES" target="_blank">2023-03-21 CC Agenda - Public Communication - Misc.</a></p><p style="text-align: left;"><strong>Presentation</strong>:<br><a href="https://www.elsegundo.gov/home/showpublisheddocument/6779/638150069859930000" target="_blank">2023-03-21 CC Agenda Packet - PRESENTATION - ITEM D12 - AB 2449</a></p><p style="text-align: left;"><strong>Video</strong>:&nbsp;<a href="https://elsegundo.granicus.com/MediaPlayer.php?view_id=10&amp;clip_id=4624" target="_blank">March 21, 2023 City Council Meeting Video</a></p>
X-ALT-DESC;FMTTYPE=text/html:<p style="text-align: center;"><strong>EL SEGUNDO CITY COUNCIL&nbsp;<br>REGULAR MEETING</strong></p><p style="text-align: center;"><strong>TUESDAY, MARCH 21, 2023 at 6:00 PM</strong></p><p style="text-align: center;"><span style="color: rgb(192, 0, 0);">COUNCIL CHAMBER IS OPEN TO THE PUBLIC</span></p><p style="text-align: left;"><strong>Notice of Adjournment:</strong></p><p style="text-align: left;"><span style="text-decoration: underline;"><a href="https://www.elsegundo.gov/home/showpublisheddocument/6781/638150098326170000" target="_blank" id="Adjournment">2023-03-21 CC Agenda - Adjournment</a></span></p><p style="text-align: left;"><strong>Agenda Packet</strong>:</p><p style="text-align: left;"><span style="text-decoration: underline;"><a href="https://www.elsegundo.gov/home/showpublisheddocument/6763/638145766991300000" target="_blank" id="Agenda Packet">2023-03-21 CC Agenda Packet</a></span><br>&nbsp;</p><p style="text-align: left;"><strong>Public Communication</strong>:<br><a href="https://www.elsegundo.gov/home/showpublisheddocument/6721/638139621009000000" target="_blank">2023-03-21 CC Agenda - Public Communication related to Hyperion</a><br><a href="https://www.elsegundo.gov/home/showpublisheddocument/6727/638140349232430000" target="_blank">2023-03-21 CC Agenda - Public Communication related to Hyperion #2</a><br><a href="https://www.elsegundo.gov/home/showpublisheddocument/6783/638150140952530000" target="_blank">2023-03-21 CC Agenda - Public Communication related to Item D12 - Meeting</a><br><a href="https://docs.elsegundo.org/WebLink/DocView.aspx?id=1196367&amp;dbid=0&amp;repo=COES" target="_blank">2023-03-21 CC Agenda - Public Communication - Misc.</a></p><p style="text-align: left;"><strong>Presentation</strong>:<br><a href="https://www.elsegundo.gov/home/showpublisheddocument/6779/638150069859930000" target="_blank">2023-03-21 CC Agenda Packet - PRESENTATION - ITEM D12 - AB 2449</a></p><p style="text-align: left;"><strong>Video</strong>:&nbsp;<a href="https://elsegundo.granicus.com/MediaPlayer.php?view_id=10&amp;clip_id=4624" target="_blank">March 21, 2023 City Council Meeting Video</a></p>
LOCATION:City Council Chamber\, 350 Main Street El Segundo\, California 90245
CLASS:PUBLIC
END:VEVENT
END:VCALENDAR
