BEGIN:VCALENDAR
VERSION:2.0
PRODID:El Segundo Calendar Creator
METHOD:PUBLISH
BEGIN:VEVENT
DTSTAMP:20220921T082612
DTSTART:20220906T180000
DTEND:20220906T180000
SUMMARY:City Council Meeting
DESCRIPTION:<p style="text-align: center;">EL SEGUNDO CITY COUNCIL<br>REGULAR MEETING<br>TUESDAY, SEPTEMBER 6, 2022 at 6:00 PM</p><p style="text-align: center;"><span style="color: rgb(255, 0, 0);">THE CITY COUNCIL CHAMBER IS OPEN TO THE PUBLIC</span></p><p><strong>Agenda Packet</strong>: <a href="https://www.elsegundo.gov/home/showpublisheddocument/5973/637976502593900000" target="_blank" id="Agenda Packet">2022-09-06 Agenda Packet</a></p><p><strong>Public Communications</strong>:</p><p><a href="https://docs.elsegundo.org/WebLink/DocView.aspx?id=1186506&amp;dbid=0&amp;repo=COES" target="_blank">2022-09-06 CC Agenda - Public Communications related to Hyperion</a></p><p><a href="https://docs.elsegundo.org/WebLink/DocView.aspx?id=1186426&amp;dbid=0&amp;repo=COES" target="_blank">2022-09-06 CC Agenda - Public Communication related to Item #D12 - Monument Sign</a></p><p><strong>Presentations:</strong></p><p><a href="https://docs.elsegundo.org/WebLink/DocView.aspx?id=1186566&amp;dbid=0&amp;repo=COES" target="_blank">2022-09-06 CC Agenda - Presentation related to CM Follow-up - RP Field Use</a></p><p><a href="https://docs.elsegundo.org/WebLink/DocView.aspx?id=1186565&amp;dbid=0&amp;repo=COES" target="_blank">2022-09-06 CC Agenda - Presentation related to Item #C10 - SB 743</a></p><p><a href="https://docs.elsegundo.org/WebLink/DocView.aspx?id=1186567&amp;dbid=0&amp;repo=COES" target="_blank">2022-09-06 CC Agenda - Presentation related to Item #D12 - Monument</a></p><p><a href="https://docs.elsegundo.org/WebLink/DocView.aspx?id=1186564&amp;dbid=0&amp;repo=COES" target="_blank">2022-09-06 CC Agenda - Presentation related to Item #D14 - Strategic Plan</a></p><p><a href="https://docs.elsegundo.org/WebLink/DocView.aspx?id=1186563&amp;dbid=0&amp;repo=COES" target="_blank">2022-09-06 CC Agenda - Presentation related to Item #G17 - Investment Portfolio Report</a></p><p><strong>Video</strong>:&nbsp;<a href="https://elsegundo.granicus.com/MediaPlayer.php?view_id=10&amp;clip_id=4550" target="_blank">September 6, 2022 City Council Meeting Video</a></p>
X-ALT-DESC;FMTTYPE=text/html:<p style="text-align: center;">EL SEGUNDO CITY COUNCIL<br>REGULAR MEETING<br>TUESDAY, SEPTEMBER 6, 2022 at 6:00 PM</p><p style="text-align: center;"><span style="color: rgb(255, 0, 0);">THE CITY COUNCIL CHAMBER IS OPEN TO THE PUBLIC</span></p><p><strong>Agenda Packet</strong>: <a href="https://www.elsegundo.gov/home/showpublisheddocument/5973/637976502593900000" target="_blank" id="Agenda Packet">2022-09-06 Agenda Packet</a></p><p><strong>Public Communications</strong>:</p><p><a href="https://docs.elsegundo.org/WebLink/DocView.aspx?id=1186506&amp;dbid=0&amp;repo=COES" target="_blank">2022-09-06 CC Agenda - Public Communications related to Hyperion</a></p><p><a href="https://docs.elsegundo.org/WebLink/DocView.aspx?id=1186426&amp;dbid=0&amp;repo=COES" target="_blank">2022-09-06 CC Agenda - Public Communication related to Item #D12 - Monument Sign</a></p><p><strong>Presentations:</strong></p><p><a href="https://docs.elsegundo.org/WebLink/DocView.aspx?id=1186566&amp;dbid=0&amp;repo=COES" target="_blank">2022-09-06 CC Agenda - Presentation related to CM Follow-up - RP Field Use</a></p><p><a href="https://docs.elsegundo.org/WebLink/DocView.aspx?id=1186565&amp;dbid=0&amp;repo=COES" target="_blank">2022-09-06 CC Agenda - Presentation related to Item #C10 - SB 743</a></p><p><a href="https://docs.elsegundo.org/WebLink/DocView.aspx?id=1186567&amp;dbid=0&amp;repo=COES" target="_blank">2022-09-06 CC Agenda - Presentation related to Item #D12 - Monument</a></p><p><a href="https://docs.elsegundo.org/WebLink/DocView.aspx?id=1186564&amp;dbid=0&amp;repo=COES" target="_blank">2022-09-06 CC Agenda - Presentation related to Item #D14 - Strategic Plan</a></p><p><a href="https://docs.elsegundo.org/WebLink/DocView.aspx?id=1186563&amp;dbid=0&amp;repo=COES" target="_blank">2022-09-06 CC Agenda - Presentation related to Item #G17 - Investment Portfolio Report</a></p><p><strong>Video</strong>:&nbsp;<a href="https://elsegundo.granicus.com/MediaPlayer.php?view_id=10&amp;clip_id=4550" target="_blank">September 6, 2022 City Council Meeting Video</a></p>
LOCATION:City Council Chamber\, 350 Main Street El Segundo\, California 90245
CLASS:PUBLIC
END:VEVENT
END:VCALENDAR
