BEGIN:VCALENDAR
VERSION:2.0
PRODID:El Segundo Calendar Creator
METHOD:PUBLISH
BEGIN:VEVENT
DTSTAMP:20251014T101004
DTSTART:20251011T100000
DTEND:20251011T160000
SUMMARY:Daytrippers - Grammy Museum
DESCRIPTION:<p>The El Segundo Day Trippers are heading to the GRAMMY Museum! Celebrate the history and impact of music at this world-class museum in downtown Los Angeles. Explore exhibits on legendary artists, the creative process, and the power of music to inspire and connect.<br><br>The bus will leave the Museum at 4:00 PM.</p><p></p>
X-ALT-DESC;FMTTYPE=text/html:<p>The El Segundo Day Trippers are heading to the GRAMMY Museum! Celebrate the history and impact of music at this world-class museum in downtown Los Angeles. Explore exhibits on legendary artists, the creative process, and the power of music to inspire and connect.<br><br>The bus will leave the Museum at 4:00 PM.</p><p></p>
LOCATION:Joslyn Center\, 339 Sheldon Street El Segundo\, California 90245
CLASS:PUBLIC
END:VEVENT
END:VCALENDAR
