BEGIN:VCALENDAR
VERSION:2.0
PRODID:El Segundo Calendar Creator
METHOD:PUBLISH
BEGIN:VEVENT
DTSTAMP:20250806T144305
DTSTART:20251014T150000
DTEND:20251014T170000
SUMMARY:Minecraft Teen Program
DESCRIPTION:<p>We’ll be showing the newest Minecraft movie and making&nbsp;Minecraft-inspired Perler bead keychains! Snacks will be provided.</p><p>Tuesday, October 14th<br>3:00 PM -5:00 PM<br>Sue Carter Community Room<br>Teens 6th-12th grade<br><br>No registration required.<br>While supplies last.<br>Movie is rated PG.</p><p>If you have any questions please call (310)524-2799.</p>
X-ALT-DESC;FMTTYPE=text/html:<p>We’ll be showing the newest Minecraft movie and making&nbsp;Minecraft-inspired Perler bead keychains! Snacks will be provided.</p><p>Tuesday, October 14th<br>3:00 PM -5:00 PM<br>Sue Carter Community Room<br>Teens 6th-12th grade<br><br>No registration required.<br>While supplies last.<br>Movie is rated PG.</p><p>If you have any questions please call (310)524-2799.</p>
LOCATION:El Segundo Public Library\, 111 W. Mariposa Avenue El Segundo\, California 90245
CLASS:PUBLIC
END:VEVENT
END:VCALENDAR
