BEGIN:VCALENDAR
VERSION:2.0
PRODID:El Segundo Calendar Creator
METHOD:PUBLISH
BEGIN:VEVENT
DTSTAMP:20250918T125103
DTSTART:20250924T170000
DTEND:20250924T190000
SUMMARY:Revision Workshop Poetry Event
DESCRIPTION:<p>Have you ever written a poem, but struggled to revise it?&nbsp; </p><p>During this workshop participants will be introduced to revision techniques to help transform drafts into more polished pieces.&nbsp;</p><p>This program will take place in the library's Community Room. </p><p>You may view the flyer <a href="https://www.elsegundolibrary.org/home/showdocument?id=11268&amp;t=638899871302030050 " target="_blank">HERE</a> for more information.</p><p>Please contact the Reference Desk at 310-524-2728 for questions.</p><p>&nbsp;</p>
X-ALT-DESC;FMTTYPE=text/html:<p>Have you ever written a poem, but struggled to revise it?&nbsp; </p><p>During this workshop participants will be introduced to revision techniques to help transform drafts into more polished pieces.&nbsp;</p><p>This program will take place in the library's Community Room. </p><p>You may view the flyer <a href="https://www.elsegundolibrary.org/home/showdocument?id=11268&amp;t=638899871302030050 " target="_blank">HERE</a> for more information.</p><p>Please contact the Reference Desk at 310-524-2728 for questions.</p><p>&nbsp;</p>
LOCATION:El Segundo Public Library\, 111 W. Mariposa Avenue El Segundo\, California 90245
CLASS:PUBLIC
END:VEVENT
END:VCALENDAR
