BEGIN:VCALENDAR
VERSION:2.0
PRODID:El Segundo Calendar Creator
METHOD:PUBLISH
BEGIN:VEVENT
DTSTAMP:20250805T125710
DTSTART:20250823T150000
DTEND:20250823T170000
SUMMARY:Ekphrastic Poetry Art Walk
DESCRIPTION:<p>Community members will have the opportunity to write poems inspired by art (ekphrastic poetry.)&nbsp; This program will take place in the library's Community Room.&nbsp; &nbsp;You may view the flyer <a href="https://www.elsegundolibrary.org/home/showdocument?id=11268&amp;t=638899871302030050 " target="_blank">HERE</a> for more information.</p><p>Please contact the Reference Desk at 310-524-2728 for questions.</p>
X-ALT-DESC;FMTTYPE=text/html:<p>Community members will have the opportunity to write poems inspired by art (ekphrastic poetry.)&nbsp; This program will take place in the library's Community Room.&nbsp; &nbsp;You may view the flyer <a href="https://www.elsegundolibrary.org/home/showdocument?id=11268&amp;t=638899871302030050 " target="_blank">HERE</a> for more information.</p><p>Please contact the Reference Desk at 310-524-2728 for questions.</p>
LOCATION:El Segundo Public Library\, 111 W. Mariposa Avenue El Segundo\, California 90245
CLASS:PUBLIC
END:VEVENT
END:VCALENDAR
