BEGIN:VCALENDAR
VERSION:2.0
PRODID:El Segundo Calendar Creator
METHOD:PUBLISH
BEGIN:VEVENT
DTSTAMP:20250624T102113
DTSTART:20250701T183000
DTEND:20250701T193000
SUMMARY:Book Buzz Tea
DESCRIPTION:<p>A Book Buzz Tea will be presented on Tuesday, July 1st in the Library's Community Room.&nbsp; Tea, coffee, fruits and sweets will be served and a sneak peek of forthcoming Penguin Random House books will also be on the menu.</p><p>Please RSVP by Monday, June 23rd by calling the Reference Desk at 310-524-2728.</p>
X-ALT-DESC;FMTTYPE=text/html:<p>A Book Buzz Tea will be presented on Tuesday, July 1st in the Library's Community Room.&nbsp; Tea, coffee, fruits and sweets will be served and a sneak peek of forthcoming Penguin Random House books will also be on the menu.</p><p>Please RSVP by Monday, June 23rd by calling the Reference Desk at 310-524-2728.</p>
LOCATION:El Segundo Public Library\, 111 W. Mariposa Avenue El Segundo\, California 90245
CLASS:PUBLIC
END:VEVENT
END:VCALENDAR
