BEGIN:VCALENDAR
VERSION:2.0
PRODID:El Segundo Calendar Creator
METHOD:PUBLISH
BEGIN:VEVENT
DTSTAMP:20250714T083858
DTSTART:20250729T150000
DTEND:20250729T170000
SUMMARY:Harry Potter Teen Craft & Movie Program
DESCRIPTION:Step into the wizarding world as we celebrate Harry Potter’s Birthday!&nbsp;<br>Enjoy a screening of one of the beloved Harry Potter films and get creative with a Potion Slime Craft—mix up magical ingredients to create your own enchanted slime.&nbsp;<br>Snacks and fun included! No registration required.
X-ALT-DESC;FMTTYPE=text/html:Step into the wizarding world as we celebrate Harry Potter’s Birthday!&nbsp;<br>Enjoy a screening of one of the beloved Harry Potter films and get creative with a Potion Slime Craft—mix up magical ingredients to create your own enchanted slime.&nbsp;<br>Snacks and fun included! No registration required.
LOCATION:El Segundo Public Library\, 111 W. Mariposa Avenue El Segundo\, California 90245
CLASS:PUBLIC
END:VEVENT
END:VCALENDAR
