BEGIN:VCALENDAR
VERSION:2.0
PRODID:El Segundo Calendar Creator
METHOD:PUBLISH
BEGIN:VEVENT
DTSTAMP:20250527T104356
DTSTART:20250704T000000
DTEND:20250704T235900
SUMMARY:Library Closed for Independence Day
DESCRIPTION:In observance of Independence Day the Library will be closed on Friday, July 4th.
X-ALT-DESC;FMTTYPE=text/html:In observance of Independence Day the Library will be closed on Friday, July 4th.
LOCATION:
CLASS:PUBLIC
END:VEVENT
END:VCALENDAR
