BEGIN:VCALENDAR
VERSION:2.0
PRODID:El Segundo Calendar Creator
METHOD:PUBLISH
BEGIN:VEVENT
DTSTAMP:20250805T125532
DTSTART:20250806T150000
DTEND:20250806T154500
SUMMARY:Rhythm and Roots
DESCRIPTION:<div data-olk-copy-source="MessageBody">Join us for "Rhythm and Roots" on Wednesday, August 6th, 3:00 - 3:45 p.m. in the Sue Carter Community Room. </div><div data-olk-copy-source="MessageBody">&nbsp;</div><div data-olk-copy-source="MessageBody">"Rhythm and Roots"&nbsp;is a solo percussion presentation, an interactive, fun and informative exploration of the origins of Afro Cuban rhythms, and how they made their way into today’s music.&nbsp; </div><div data-olk-copy-source="MessageBody">&nbsp;</div><div data-olk-copy-source="MessageBody">Louie uses humor, a wide variety of authentic and unusual instruments, and a deep understanding of percussion instruments and styles to impart an uplifting message of music education and empowerment through the arts.</div><div><i>&nbsp;</i></div><div><i>For ages 5-10 and families.</i></div><div><i>For more information, please call 310-524-2726.</i></div>
X-ALT-DESC;FMTTYPE=text/html:<div data-olk-copy-source="MessageBody">Join us for "Rhythm and Roots" on Wednesday, August 6th, 3:00 - 3:45 p.m. in the Sue Carter Community Room. </div><div data-olk-copy-source="MessageBody">&nbsp;</div><div data-olk-copy-source="MessageBody">"Rhythm and Roots"&nbsp;is a solo percussion presentation, an interactive, fun and informative exploration of the origins of Afro Cuban rhythms, and how they made their way into today’s music.&nbsp; </div><div data-olk-copy-source="MessageBody">&nbsp;</div><div data-olk-copy-source="MessageBody">Louie uses humor, a wide variety of authentic and unusual instruments, and a deep understanding of percussion instruments and styles to impart an uplifting message of music education and empowerment through the arts.</div><div><i>&nbsp;</i></div><div><i>For ages 5-10 and families.</i></div><div><i>For more information, please call 310-524-2726.</i></div>
LOCATION:El Segundo Public Library\, 111 W. Mariposa Avenue El Segundo\, California 90245
CLASS:PUBLIC
END:VEVENT
END:VCALENDAR
