BEGIN:VCALENDAR
VERSION:2.0
PRODID:El Segundo Calendar Creator
METHOD:PUBLISH
BEGIN:VEVENT
DTSTAMP:20250501T133631
DTSTART:20250528T183000
DTEND:20250528T193000
SUMMARY:Evening Book Discussion Group
DESCRIPTION:<p>We will discuss The God of the Woods by Liz Moore during May's Book Discussion Group meeting in the Community Room of the Library.</p><p>A limited number of copies of this book are available at the Library's Reference Desk.&nbsp; Call 310-524-2728 for more information.</p>
X-ALT-DESC;FMTTYPE=text/html:<p>We will discuss The God of the Woods by Liz Moore during May's Book Discussion Group meeting in the Community Room of the Library.</p><p>A limited number of copies of this book are available at the Library's Reference Desk.&nbsp; Call 310-524-2728 for more information.</p>
LOCATION:El Segundo Public Library\, 111 W. Mariposa Avenue El Segundo\, California 90245
CLASS:PUBLIC
END:VEVENT
END:VCALENDAR
