BEGIN:VCALENDAR
VERSION:2.0
PRODID:El Segundo Calendar Creator
METHOD:PUBLISH
BEGIN:VEVENT
DTSTAMP:20250402T151537
DTSTART:20250416T180000
DTEND:20250416T200000
SUMMARY:Evening Book Tasting
DESCRIPTION:<p>Join us at Richmond Bar and Grill to explore different literary genres and discuss what we like and/or don't like. Nosh on appetizers provided while skimming through multiple samples of each genre.&nbsp; Don't miss out on the fun, reserve your spot early!&nbsp;Space is limited so registration for all participants is required. Email mmartes@elsegundo.org or call 310-524-2728 to register.&nbsp;</p><p>Click <a href="https://www.elsegundolibrary.org/home/showdocument?id=10589&amp;t=638792034694074348 " target="_blank">here</a> to view the flyer.</p><p>&nbsp;</p>
X-ALT-DESC;FMTTYPE=text/html:<p>Join us at Richmond Bar and Grill to explore different literary genres and discuss what we like and/or don't like. Nosh on appetizers provided while skimming through multiple samples of each genre.&nbsp; Don't miss out on the fun, reserve your spot early!&nbsp;Space is limited so registration for all participants is required. Email mmartes@elsegundo.org or call 310-524-2728 to register.&nbsp;</p><p>Click <a href="https://www.elsegundolibrary.org/home/showdocument?id=10589&amp;t=638792034694074348 " target="_blank">here</a> to view the flyer.</p><p>&nbsp;</p>
LOCATION:Richmond Bar & Grill\, 145 Richmond Street El Segundo\, California 90245
CLASS:PUBLIC
END:VEVENT
END:VCALENDAR
