BEGIN:VCALENDAR
VERSION:2.0
PRODID:El Segundo Calendar Creator
METHOD:PUBLISH
BEGIN:VEVENT
DTSTAMP:20250331T140344
DTSTART:20250429T153000
DTEND:20250429T170000
SUMMARY:Watercolor Art Program for Teens
DESCRIPTION:<p>Meets in the Sue Carter Community Room.<br>For teens 6th-12th grade.<br>No registration required.</p><div><strong></strong></div><p><strong>Unleash your creativity with watercolor painting at the library!</strong><br>This hands -on program is perfect for teens who want to explore the beauty of watercolor techniques in a fun and relaxed environment. No experience needed—just bring your imagination! Our instructor Natalie Strong will guide you through blending colors, creating textures, and making your own masterpiece to take home.</p><p><strong>And because art is even better with snacks, we’re providing free pizza!</strong></p><p><em>For more information, please call 310-524-2799.</em></p>
X-ALT-DESC;FMTTYPE=text/html:<p>Meets in the Sue Carter Community Room.<br>For teens 6th-12th grade.<br>No registration required.</p><div><strong></strong></div><p><strong>Unleash your creativity with watercolor painting at the library!</strong><br>This hands -on program is perfect for teens who want to explore the beauty of watercolor techniques in a fun and relaxed environment. No experience needed—just bring your imagination! Our instructor Natalie Strong will guide you through blending colors, creating textures, and making your own masterpiece to take home.</p><p><strong>And because art is even better with snacks, we’re providing free pizza!</strong></p><p><em>For more information, please call 310-524-2799.</em></p>
LOCATION:El Segundo Public Library\, 111 W. Mariposa Avenue El Segundo\, California 90245
CLASS:PUBLIC
END:VEVENT
END:VCALENDAR
