BEGIN:VCALENDAR
VERSION:2.0
PRODID:El Segundo Calendar Creator
METHOD:PUBLISH
BEGIN:VEVENT
DTSTAMP:20250227T125710
DTSTART:20250317T140000
DTEND:20250317T150000
SUMMARY:Books and Bites
DESCRIPTION:<p>Join us for book chat, treats, and a book-themed activity!</p><p>GRADES 3-5<br>MONDAY, MARCH 17, 2-3 P.M.</p><p>Read any book from the Cat Kid Comic Club series before the program. Copies of the books may be available at the Youth Desk or online through the Libby App.<br>Registration is not required.<br><div></div></p><p>Questions? 310-524-2772 | kbeckman@elsegundo.org<br><br><br></p><br>
X-ALT-DESC;FMTTYPE=text/html:<p>Join us for book chat, treats, and a book-themed activity!</p><p>GRADES 3-5<br>MONDAY, MARCH 17, 2-3 P.M.</p><p>Read any book from the Cat Kid Comic Club series before the program. Copies of the books may be available at the Youth Desk or online through the Libby App.<br>Registration is not required.<br><div></div></p><p>Questions? 310-524-2772 | kbeckman@elsegundo.org<br><br><br></p><br>
LOCATION:El Segundo Public Library\, 111 W. Mariposa Avenue El Segundo\, California 90245
CLASS:PUBLIC
END:VEVENT
END:VCALENDAR
