BEGIN:VCALENDAR
VERSION:2.0
PRODID:El Segundo Calendar Creator
METHOD:PUBLISH
BEGIN:VEVENT
DTSTAMP:20250331T144548
DTSTART:20250412T103000
DTEND:20250412T120000
SUMMARY:Author Tea with J. Ryan Stradal
DESCRIPTION:<p>Join us for tea and coffee with author J. Ryan Stradal in celebration of National Library Week.&nbsp; You may view our flyer for more information <a href="https://www.elsegundolibrary.org/home/showdocument?id=10366&amp;t=638761853870073820" target="_blank">HERE</a>.</p><p>Please contact the Reference Desk to RSVP for this FREE event at 310-524-2728.</p>
X-ALT-DESC;FMTTYPE=text/html:<p>Join us for tea and coffee with author J. Ryan Stradal in celebration of National Library Week.&nbsp; You may view our flyer for more information <a href="https://www.elsegundolibrary.org/home/showdocument?id=10366&amp;t=638761853870073820" target="_blank">HERE</a>.</p><p>Please contact the Reference Desk to RSVP for this FREE event at 310-524-2728.</p>
LOCATION:El Segundo Public Library\, 111 W. Mariposa Avenue El Segundo\, California 90245
CLASS:PUBLIC
END:VEVENT
END:VCALENDAR
