BEGIN:VCALENDAR
VERSION:2.0
PRODID:El Segundo Calendar Creator
METHOD:PUBLISH
BEGIN:VEVENT
DTSTAMP:20250114T171238
DTSTART:20250201T090000
DTEND:20250201T100000
SUMMARY:Sensory Friendly Browsing Hour
DESCRIPTION:<p>Saturday, February 1st.<br>9:00-10:00am<br>Youth Services Area<br><strong>Please use Library Park door to enter.</strong></p><p>Join us for a&nbsp;sensory-friendly browsing time for neurodivergent children to enjoy the library in a less stimulating environment.</p><p>For children 2 years and older with sensory processing challenges.<br>For more information contact 310-525-2726.<br>Children must be accompanied by adult caregiver.</p>
X-ALT-DESC;FMTTYPE=text/html:<p>Saturday, February 1st.<br>9:00-10:00am<br>Youth Services Area<br><strong>Please use Library Park door to enter.</strong></p><p>Join us for a&nbsp;sensory-friendly browsing time for neurodivergent children to enjoy the library in a less stimulating environment.</p><p>For children 2 years and older with sensory processing challenges.<br>For more information contact 310-525-2726.<br>Children must be accompanied by adult caregiver.</p>
LOCATION:El Segundo Public Library\, 111 W. Mariposa Avenue El Segundo\, California 90245
CLASS:PUBLIC
END:VEVENT
END:VCALENDAR
