BEGIN:VCALENDAR
VERSION:2.0
PRODID:El Segundo Calendar Creator
METHOD:PUBLISH
BEGIN:VEVENT
DTSTAMP:20250303T084515
DTSTART:20250324T100000
DTEND:20250324T110000
SUMMARY:Rhythm and Roots Performance
DESCRIPTION:<p></p><p>Join us for "Rhythm and Roots" on Monday, March 24th at 10:00am at the Clubhouse. "Rhythm and Roots"&nbsp;is a solo percussion presentation, an interactive, fun and informative exploration of the origins of Afro Cuban rhythms, and how they made their way into today’s music.&nbsp; Louie uses humor, a wide variety of authentic and unusual instruments, and a deep understanding of percussion instruments and styles to impart an uplifting message of music education and empowerment through the arts.</p><p>For ages 0-5 and families.</p><p>For more information, please call 310-524-2362 or 310-524-2726.</p>
X-ALT-DESC;FMTTYPE=text/html:<p></p><p>Join us for "Rhythm and Roots" on Monday, March 24th at 10:00am at the Clubhouse. "Rhythm and Roots"&nbsp;is a solo percussion presentation, an interactive, fun and informative exploration of the origins of Afro Cuban rhythms, and how they made their way into today’s music.&nbsp; Louie uses humor, a wide variety of authentic and unusual instruments, and a deep understanding of percussion instruments and styles to impart an uplifting message of music education and empowerment through the arts.</p><p>For ages 0-5 and families.</p><p>For more information, please call 310-524-2362 or 310-524-2726.</p>
LOCATION:George E. Gordon Clubhouse\, 300 E. Pine Ave. El Segundo\, California 90245
CLASS:PUBLIC
END:VEVENT
END:VCALENDAR
