BEGIN:VCALENDAR
VERSION:2.0
PRODID:El Segundo Calendar Creator
METHOD:PUBLISH
BEGIN:VEVENT
DTSTAMP:20250415T115645
DTSTART:20250419T093000
DTEND:20250419T113000
SUMMARY:Egg Hunt Eggstrvaganza & Camp Expo
DESCRIPTION:<p></p><p>Get EGG-cited for our annual Egg Hunt Eggstravaganza &amp; Camp Expo on Saturday, April 19th! Join us at Recreation Park from 9:30am-11:30am to meet the bunny and join in on all the egg hunt festivities!<br><br>After hunting for eggs and meeting the bunny, check out our Camp Expo where you can learn all about the fun summer camps we're offering and get a sneak peek at what we have planned for you! </p><p>Below are the times and locations for each egg hunt:</p><p><strong><span style="text-decoration: underline;">10:00am</span></strong><br><em>Crawlers &amp; Walkers</em> -- Lawn Bowling<br><em>2 Year Olds</em> -- Playground<br><em>3 &amp; 4 Year Olds</em> -- Stevenson Field</p><p><span style="text-decoration: underline;"><strong>10:30am</strong></span><br><em>5 &amp; 6 Year Olds</em> -- Stevenson Field<br><em>7 &amp; 8 Year Olds</em> -- Stevenson Field<br><em>9-12 Year Olds</em> -- Picnic Area</p><p></p><p>&nbsp;</p><p>&nbsp;</p>
X-ALT-DESC;FMTTYPE=text/html:<p></p><p>Get EGG-cited for our annual Egg Hunt Eggstravaganza &amp; Camp Expo on Saturday, April 19th! Join us at Recreation Park from 9:30am-11:30am to meet the bunny and join in on all the egg hunt festivities!<br><br>After hunting for eggs and meeting the bunny, check out our Camp Expo where you can learn all about the fun summer camps we're offering and get a sneak peek at what we have planned for you! </p><p>Below are the times and locations for each egg hunt:</p><p><strong><span style="text-decoration: underline;">10:00am</span></strong><br><em>Crawlers &amp; Walkers</em> -- Lawn Bowling<br><em>2 Year Olds</em> -- Playground<br><em>3 &amp; 4 Year Olds</em> -- Stevenson Field</p><p><span style="text-decoration: underline;"><strong>10:30am</strong></span><br><em>5 &amp; 6 Year Olds</em> -- Stevenson Field<br><em>7 &amp; 8 Year Olds</em> -- Stevenson Field<br><em>9-12 Year Olds</em> -- Picnic Area</p><p></p><p>&nbsp;</p><p>&nbsp;</p>
LOCATION:Recreation Park\, 401 Sheldon Street El Segundo\, California 90245
CLASS:PUBLIC
END:VEVENT
END:VCALENDAR
