BEGIN:VCALENDAR
VERSION:2.0
PRODID:El Segundo Calendar Creator
METHOD:PUBLISH
BEGIN:VEVENT
DTSTAMP:20250106T083727
DTSTART:20250107T153000
DTEND:20250107T163000
SUMMARY:Crafteen
DESCRIPTION:<p>Crafteen<br>For Teens 6th-12th grade.<br>Join us in the Sue Carter Community Room for a fun afternoon of making crafts! Snacks are provided.</p><p>*Space is limited. Tickets are required for this program.&nbsp;<br>Tickets are available 15 minutes before the start of the program at the Youth Desk.</p><p>Please call 310-524-2799 for more details.</p>
X-ALT-DESC;FMTTYPE=text/html:<p>Crafteen<br>For Teens 6th-12th grade.<br>Join us in the Sue Carter Community Room for a fun afternoon of making crafts! Snacks are provided.</p><p>*Space is limited. Tickets are required for this program.&nbsp;<br>Tickets are available 15 minutes before the start of the program at the Youth Desk.</p><p>Please call 310-524-2799 for more details.</p>
LOCATION:El Segundo Public Library\, 111 W. Mariposa Avenue El Segundo\, California 90245
CLASS:PUBLIC
END:VEVENT
END:VCALENDAR
