BEGIN:VCALENDAR
VERSION:2.0
PRODID:El Segundo Calendar Creator
METHOD:PUBLISH
BEGIN:VEVENT
DTSTAMP:20250312T113351
DTSTART:20250227T180000
DTEND:20250227T190000
SUMMARY:New Kids on the Block a Lego Club
DESCRIPTION:<p direction-ltr="" align-center="" para-style-body"="">Registration for February 27th Program will open February 20th at 9 a.m.<br><br>Contact youth desk during library hours at&nbsp;310-524-2726&nbsp;to register each person attending.<br>Once Registration is confirmed you will be given further instructions.<br><div>&nbsp;</div><p>Next meeting Thursday, February 27th, 6-7 P.M.<br><br>Meeting takes place in&nbsp;Sue Carter Community Room Lego will be provided.<br>Program for ages 5-12.</p><p>Children 8 an under must be accompanied&nbsp;by an adult caregiver for entire program.</p></p>
X-ALT-DESC;FMTTYPE=text/html:<p direction-ltr="" align-center="" para-style-body"="">Registration for February 27th Program will open February 20th at 9 a.m.<br><br>Contact youth desk during library hours at&nbsp;310-524-2726&nbsp;to register each person attending.<br>Once Registration is confirmed you will be given further instructions.<br><div>&nbsp;</div><p>Next meeting Thursday, February 27th, 6-7 P.M.<br><br>Meeting takes place in&nbsp;Sue Carter Community Room Lego will be provided.<br>Program for ages 5-12.</p><p>Children 8 an under must be accompanied&nbsp;by an adult caregiver for entire program.</p></p>
LOCATION:El Segundo Public Library\, 111 W. Mariposa Avenue El Segundo\, California 90245
CLASS:PUBLIC
END:VEVENT
END:VCALENDAR
