BEGIN:VCALENDAR
VERSION:2.0
PRODID:El Segundo Calendar Creator
METHOD:PUBLISH
BEGIN:VEVENT
DTSTAMP:20250113T160340
DTSTART:20250123T180000
DTEND:20250123T190000
SUMMARY:New Kids on the Block a Lego Club
DESCRIPTION:<p>Lego Club&nbsp;<br><strong>*Registration Now Required</strong></p><p>To register:<br>Registration opens one week prior to program, <br>January 16 at 9 a.m.<br>Contact youth desk during library hours at 310-524-2726&nbsp;to register each person attending.<br>Once registration is confirmed you will be given further instructions.</p><p>Meeting takes place in the Sue Carter Community Room.<br>Lego will be provided.<br>Program for ages 5-12.</p><p>Children 8 an under must be accompanied&nbsp;by an adult caregiver for entire program.<strong><br><div>&nbsp;</div><div></div></strong><div>For more information contact 310-524-2726.</div><strong><div></div></strong><div>&nbsp;</div></p>
X-ALT-DESC;FMTTYPE=text/html:<p>Lego Club&nbsp;<br><strong>*Registration Now Required</strong></p><p>To register:<br>Registration opens one week prior to program, <br>January 16 at 9 a.m.<br>Contact youth desk during library hours at 310-524-2726&nbsp;to register each person attending.<br>Once registration is confirmed you will be given further instructions.</p><p>Meeting takes place in the Sue Carter Community Room.<br>Lego will be provided.<br>Program for ages 5-12.</p><p>Children 8 an under must be accompanied&nbsp;by an adult caregiver for entire program.<strong><br><div>&nbsp;</div><div></div></strong><div>For more information contact 310-524-2726.</div><strong><div></div></strong><div>&nbsp;</div></p>
LOCATION:El Segundo Public Library\, 111 W. Mariposa Avenue El Segundo\, California 90245
CLASS:PUBLIC
END:VEVENT
END:VCALENDAR
