BEGIN:VCALENDAR
VERSION:2.0
PRODID:El Segundo Calendar Creator
METHOD:PUBLISH
BEGIN:VEVENT
DTSTAMP:20241121T124736
DTSTART:20241231T000000
DTEND:20250101T235900
SUMMARY:Closed for the New Year’s Eve and New Year’s Holidays
DESCRIPTION:The El Segundo Public Library will be closed Tuesday, December 21st and Wednesday, January 1st in observance of the New Year’s Eve and New Year’s day holidays.
X-ALT-DESC;FMTTYPE=text/html:The El Segundo Public Library will be closed Tuesday, December 21st and Wednesday, January 1st in observance of the New Year’s Eve and New Year’s day holidays.
LOCATION:El Segundo Public Library\, 111 W. Mariposa Avenue El Segundo\, California 90245
CLASS:PUBLIC
END:VEVENT
END:VCALENDAR
