BEGIN:VCALENDAR
VERSION:2.0
PRODID:El Segundo Calendar Creator
METHOD:PUBLISH
BEGIN:VEVENT
DTSTAMP:20241121T124154
DTSTART:20241224T000000
DTEND:20241225T235900
SUMMARY:Closed for the Christmas Eve and Christmas Day Holidays
DESCRIPTION:The El Segundo Public Library will be closed Tuesday, December 24th and Wednesday, December 25th observance of the Christmas Eve and Christmas Holidays.&nbsp;
X-ALT-DESC;FMTTYPE=text/html:The El Segundo Public Library will be closed Tuesday, December 24th and Wednesday, December 25th observance of the Christmas Eve and Christmas Holidays.&nbsp;
LOCATION:El Segundo Public Library\, 111 W. Mariposa Avenue El Segundo\, California 90245
CLASS:PUBLIC
END:VEVENT
END:VCALENDAR
