BEGIN:VCALENDAR
VERSION:2.0
PRODID:El Segundo Calendar Creator
METHOD:PUBLISH
BEGIN:VEVENT
DTSTAMP:20241121T122636
DTSTART:20241205T140000
DTEND:20241205T200000
SUMMARY:The Library Will Close Early at 2pm
DESCRIPTION:The Library will close at 2pm for a city event.
X-ALT-DESC;FMTTYPE=text/html:The Library will close at 2pm for a city event.
LOCATION:El Segundo Public Library\, 111 W. Mariposa Avenue El Segundo\, California 90245
CLASS:PUBLIC
END:VEVENT
END:VCALENDAR
