BEGIN:VCALENDAR
VERSION:2.0
PRODID:El Segundo Calendar Creator
METHOD:PUBLISH
BEGIN:VEVENT
DTSTAMP:20241118T101909
DTSTART:20241216T180000
DTEND:20241216T193000
SUMMARY:A Jolly Good Time Holiday Event
DESCRIPTION:<p direction-ltr="" align-center="" para-style-body"="">The community is invited to participate in a FREE program to celebrate the winter holidays.&nbsp; Join us and have A JOLLY GOOD TIME on Monday, December 16th, 6:00pm to 7:30pm in the Library's Sue Carter Community Room.</p><p direction-ltr="" align-center="" para-style-body"="">Click <a href="https://www.elsegundolibrary.org/home/showdocument?id=9842&amp;t=638675216542635212" target="_blank">HERE</a> to view the flyer.</p>
X-ALT-DESC;FMTTYPE=text/html:<p direction-ltr="" align-center="" para-style-body"="">The community is invited to participate in a FREE program to celebrate the winter holidays.&nbsp; Join us and have A JOLLY GOOD TIME on Monday, December 16th, 6:00pm to 7:30pm in the Library's Sue Carter Community Room.</p><p direction-ltr="" align-center="" para-style-body"="">Click <a href="https://www.elsegundolibrary.org/home/showdocument?id=9842&amp;t=638675216542635212" target="_blank">HERE</a> to view the flyer.</p>
LOCATION:El Segundo Public Library\, 111 W. Mariposa Avenue El Segundo\, California 90245
CLASS:PUBLIC
END:VEVENT
END:VCALENDAR
