BEGIN:VCALENDAR
VERSION:2.0
PRODID:El Segundo Calendar Creator
METHOD:PUBLISH
BEGIN:VEVENT
DTSTAMP:20241112T081744
DTSTART:20241128T000000
DTEND:20241129T235900
SUMMARY:The Library Will Be Closed for the Thanksgiving Holiday
DESCRIPTION:The Library will be closed in observance of the Thanksgiving holiday on Thursday, November 28 and Friday, November 29.
X-ALT-DESC;FMTTYPE=text/html:The Library will be closed in observance of the Thanksgiving holiday on Thursday, November 28 and Friday, November 29.
LOCATION:El Segundo Public Library\, 111 W. Mariposa Avenue El Segundo\, California 90245
CLASS:PUBLIC
END:VEVENT
END:VCALENDAR
