BEGIN:VCALENDAR
VERSION:2.0
PRODID:El Segundo Calendar Creator
METHOD:PUBLISH
BEGIN:VEVENT
DTSTAMP:20241112T081543
DTSTART:20241118T140000
DTEND:20241118T150000
SUMMARY:Books and Bites
DESCRIPTION:<p>Join us for book chat and treats!&nbsp; Share what you're reading and hear other kids picks.&nbsp; No registration required.&nbsp; For kids ages 8-10.</p><p>&nbsp;</p><p>&nbsp;</p><p>&nbsp;</p><br>
X-ALT-DESC;FMTTYPE=text/html:<p>Join us for book chat and treats!&nbsp; Share what you're reading and hear other kids picks.&nbsp; No registration required.&nbsp; For kids ages 8-10.</p><p>&nbsp;</p><p>&nbsp;</p><p>&nbsp;</p><br>
LOCATION:El Segundo Public Library\, 111 W. Mariposa Avenue El Segundo\, California 90245
CLASS:PUBLIC
END:VEVENT
END:VCALENDAR
