BEGIN:VCALENDAR
VERSION:2.0
PRODID:El Segundo Calendar Creator
METHOD:PUBLISH
BEGIN:VEVENT
DTSTAMP:20241016T125114
DTSTART:20241224T120000
DTEND:20241224T150000
SUMMARY:Community Christmas Eve Dinner
DESCRIPTION:<p>Enjoy a free and delicious holiday meal at the Recreation, Parks, and Library Department's annual community Christmas Eve dinner on Tuesday, December 24th, from 12:00 p.m. to 3:00 p.m. at the Joslyn Center. This event is open to the public and is available by free delivery. Transportation to/from the Joslyn Center is available to residents.</p><p>&nbsp;Please RSVP before December 20th in-person or by calling the Joslyn Center at 310-524-2705.</p><p>&nbsp;If you are interested in volunteering, please contact 310-524-2705.</p>
X-ALT-DESC;FMTTYPE=text/html:<p>Enjoy a free and delicious holiday meal at the Recreation, Parks, and Library Department's annual community Christmas Eve dinner on Tuesday, December 24th, from 12:00 p.m. to 3:00 p.m. at the Joslyn Center. This event is open to the public and is available by free delivery. Transportation to/from the Joslyn Center is available to residents.</p><p>&nbsp;Please RSVP before December 20th in-person or by calling the Joslyn Center at 310-524-2705.</p><p>&nbsp;If you are interested in volunteering, please contact 310-524-2705.</p>
LOCATION:Joslyn Center\, 339 Sheldon Street El Segundo\, California 90245
CLASS:PUBLIC
END:VEVENT
END:VCALENDAR
