BEGIN:VCALENDAR
VERSION:2.0
PRODID:El Segundo Calendar Creator
METHOD:PUBLISH
BEGIN:VEVENT
DTSTAMP:20241016T114808
DTSTART:20241024T160000
DTEND:20241024T180000
SUMMARY:Recreation Park Renovation Community Workshop
DESCRIPTION:<p>&nbsp;</p><p>Teens! You are invited to help shape the future of the Teen Center and Plaza! Join us at the Teen Center on Thursday, October 24th from 4:00 p.m. to 6:00 p.m. for our Recreation Park Renovation Community Workshop. You will receive an update on the Teen Center and Plaza portion of the Recreation Park Renovation Project, have the opportunity to give input into what features you would like to see, and work with design consultants to help shape our future skatepark, multi-court surface, and Teen Center. Pizza and drinks will be provided.&nbsp;</p><p>For more information, please contact <a href="mailto:&#108;&#112;&#97;&#108;&#109;&#101;&#114;&#64;&#101;&#108;&#115;&#101;&#103;&#117;&#110;&#100;&#111;&#46;&#111;&#114;&#103;">lpalmer@elsegundo.org</a> or 310-524-2718.</p>
X-ALT-DESC;FMTTYPE=text/html:<p>&nbsp;</p><p>Teens! You are invited to help shape the future of the Teen Center and Plaza! Join us at the Teen Center on Thursday, October 24th from 4:00 p.m. to 6:00 p.m. for our Recreation Park Renovation Community Workshop. You will receive an update on the Teen Center and Plaza portion of the Recreation Park Renovation Project, have the opportunity to give input into what features you would like to see, and work with design consultants to help shape our future skatepark, multi-court surface, and Teen Center. Pizza and drinks will be provided.&nbsp;</p><p>For more information, please contact <a href="mailto:&#108;&#112;&#97;&#108;&#109;&#101;&#114;&#64;&#101;&#108;&#115;&#101;&#103;&#117;&#110;&#100;&#111;&#46;&#111;&#114;&#103;">lpalmer@elsegundo.org</a> or 310-524-2718.</p>
LOCATION:El Segundo Teen Center\, 405 E. Grand Avenue El Segundo\, California 90245
CLASS:PUBLIC
END:VEVENT
END:VCALENDAR
