BEGIN:VCALENDAR
VERSION:2.0
PRODID:El Segundo Calendar Creator
METHOD:PUBLISH
BEGIN:VEVENT
DTSTAMP:20241008T174811
DTSTART:20241111T000000
DTEND:20241111T235900
SUMMARY:Library is Closed for Veterans Day
DESCRIPTION:The library will be closed on Thursday, November 11th in observance of Veterans Day.
X-ALT-DESC;FMTTYPE=text/html:The library will be closed on Thursday, November 11th in observance of Veterans Day.
LOCATION:El Segundo Public Library\, 111 W. Mariposa Avenue El Segundo\, California 90245
CLASS:PUBLIC
END:VEVENT
END:VCALENDAR
