BEGIN:VCALENDAR
VERSION:2.0
PRODID:El Segundo Calendar Creator
METHOD:PUBLISH
BEGIN:VEVENT
DTSTAMP:20241008T174217
DTSTART:20241112T150000
DTEND:20241112T170000
SUMMARY:Teen Movie Program
DESCRIPTION:Dive into the world of Pokémon with the Detective Pikachu movie, snack on popcorn like a champ, and unleash your creativity by crafting your very own Pokémon with Pocket Beasts building blocks!<br><br>Snacks will be provided. Space is limited please sign up at the Adult Reference desk or by calling 310-524-272
X-ALT-DESC;FMTTYPE=text/html:Dive into the world of Pokémon with the Detective Pikachu movie, snack on popcorn like a champ, and unleash your creativity by crafting your very own Pokémon with Pocket Beasts building blocks!<br><br>Snacks will be provided. Space is limited please sign up at the Adult Reference desk or by calling 310-524-272
LOCATION:El Segundo Public Library\, 111 W. Mariposa Avenue El Segundo\, California 90245
CLASS:PUBLIC
END:VEVENT
END:VCALENDAR
