BEGIN:VCALENDAR
VERSION:2.0
PRODID:El Segundo Calendar Creator
METHOD:PUBLISH
BEGIN:VEVENT
DTSTAMP:20241003T130805
DTSTART:20241125T100000
DTEND:20241125T110000
SUMMARY:Bubblemania Family Event
DESCRIPTION:
X-ALT-DESC;FMTTYPE=text/html:
LOCATION:George E. Gordon Clubhouse\, 300 E. Pine Ave. El Segundo\, California 90245
CLASS:PUBLIC
END:VEVENT
END:VCALENDAR
