BEGIN:VCALENDAR
VERSION:2.0
PRODID:El Segundo Calendar Creator
METHOD:PUBLISH
BEGIN:VEVENT
DTSTAMP:20241029T164748
DTSTART:20241102T090000
DTEND:20241102T120000
SUMMARY:Community Clean Up Day
DESCRIPTION:<p></p><p><div data-olk-copy-source="MailCompose">Join us and the El Segundo Blue Butterfly Conservancy for our Community Clean Up Day! Volunteers will participate in simple clean up and improvement projects around the park. Please be prepared to get dirty and wear closed toed shoes. All supplies and refreshments will be provided.</div><br>Call 310-524-2700 to RSVP or for more info. Let’s work together to keep El Segundo beautiful!</p>
X-ALT-DESC;FMTTYPE=text/html:<p></p><p><div data-olk-copy-source="MailCompose">Join us and the El Segundo Blue Butterfly Conservancy for our Community Clean Up Day! Volunteers will participate in simple clean up and improvement projects around the park. Please be prepared to get dirty and wear closed toed shoes. All supplies and refreshments will be provided.</div><br>Call 310-524-2700 to RSVP or for more info. Let’s work together to keep El Segundo beautiful!</p>
LOCATION:Imperial Strip & Memory Tree Row\, Imperial Ave. between Hillcrest Ave. & Center St. El Segundo\, California 90245
CLASS:PUBLIC
END:VEVENT
END:VCALENDAR
