BEGIN:VCALENDAR
VERSION:2.0
PRODID:El Segundo Calendar Creator
METHOD:PUBLISH
BEGIN:VEVENT
DTSTAMP:20241024T112236
DTSTART:20241025T183000
DTEND:20241025T193000
SUMMARY:Spooky Story Time Bonfire
DESCRIPTION:<p>&nbsp;</p><p>Gather around the Recreation Park Fire Circle for a spooky story! Join us on Friday, October 25th at 6:30 p.m. for a Spooky Story Time Bonfire. It will be a night filled with stories, songs, s'mores, and spooky crafts. Free fun, designed for kids ages 0-8 and their families.&nbsp;</p>
X-ALT-DESC;FMTTYPE=text/html:<p>&nbsp;</p><p>Gather around the Recreation Park Fire Circle for a spooky story! Join us on Friday, October 25th at 6:30 p.m. for a Spooky Story Time Bonfire. It will be a night filled with stories, songs, s'mores, and spooky crafts. Free fun, designed for kids ages 0-8 and their families.&nbsp;</p>
LOCATION:Recreation Park\, 401 Sheldon Street El Segundo\, California 90245
CLASS:PUBLIC
END:VEVENT
END:VCALENDAR
