BEGIN:VCALENDAR
VERSION:2.0
PRODID:El Segundo Calendar Creator
METHOD:PUBLISH
BEGIN:VEVENT
DTSTAMP:20241003T120000
DTSTART:20241025T180000
DTEND:20241025T200000
SUMMARY:TAC Haunted Escape Room
DESCRIPTION:Dare to enter!!! Join the Teen Advisory Committee on Friday, October 25th at the Teen Center for a Haunted Escape Room! No registration required so bring your friends and we’ll see you there!<br><br>For more information, please contact 310-524-2701 or <a href="mailto:&#114;&#98;&#111;&#111;&#107;&#101;&#114;&#64;&#101;&#108;&#115;&#101;&#103;&#117;&#110;&#100;&#111;&#46;&#111;&#114;&#103;">rbooker@elsegundo.org</a>.<br><div></div>
X-ALT-DESC;FMTTYPE=text/html:Dare to enter!!! Join the Teen Advisory Committee on Friday, October 25th at the Teen Center for a Haunted Escape Room! No registration required so bring your friends and we’ll see you there!<br><br>For more information, please contact 310-524-2701 or <a href="mailto:&#114;&#98;&#111;&#111;&#107;&#101;&#114;&#64;&#101;&#108;&#115;&#101;&#103;&#117;&#110;&#100;&#111;&#46;&#111;&#114;&#103;">rbooker@elsegundo.org</a>.<br><div></div>
LOCATION:El Segundo Teen Center\, 405 E. Grand Avenue El Segundo\, California 90245
CLASS:PUBLIC
END:VEVENT
END:VCALENDAR
