BEGIN:VCALENDAR
VERSION:2.0
PRODID:El Segundo Calendar Creator
METHOD:PUBLISH
BEGIN:VEVENT
DTSTAMP:20241003T114958
DTSTART:20241004T173000
DTEND:20241004T200000
SUMMARY:Dive-In Movie - Beetlejuice
DESCRIPTION:<p>&nbsp;</p><p>Kick off spooky season with us on Friday, October 4th at the El Segundo Wiseburn Aquatics Center for a Dive-In Movie, featuring Beetlejuice! Gates open at 5:30pm and the movie starts at 6:00pm. This event is FREE for ages 11+, register prior to the event at <a href="https://secure.rec1.com/CA/el-segundo-ca/catalog/index/e52d991dbaf59949bfc2290ec67db8d6?filter=c2VhcmNoPQ==" target="_blank">www.esrec.org</a>. Bring your floaties and your friends and we’ll see you there!<br><br>A mandatory swim test will be required to enter the big pool.<br><br>For more information, please contact <a href="mailto:&#114;&#98;&#111;&#111;&#107;&#101;&#114;&#64;&#101;&#108;&#115;&#101;&#103;&#117;&#110;&#100;&#111;&#46;&#111;&#114;&#103;">rbooker@elsegundo.org</a> or call 310-524-2718.</p>
X-ALT-DESC;FMTTYPE=text/html:<p>&nbsp;</p><p>Kick off spooky season with us on Friday, October 4th at the El Segundo Wiseburn Aquatics Center for a Dive-In Movie, featuring Beetlejuice! Gates open at 5:30pm and the movie starts at 6:00pm. This event is FREE for ages 11+, register prior to the event at <a href="https://secure.rec1.com/CA/el-segundo-ca/catalog/index/e52d991dbaf59949bfc2290ec67db8d6?filter=c2VhcmNoPQ==" target="_blank">www.esrec.org</a>. Bring your floaties and your friends and we’ll see you there!<br><br>A mandatory swim test will be required to enter the big pool.<br><br>For more information, please contact <a href="mailto:&#114;&#98;&#111;&#111;&#107;&#101;&#114;&#64;&#101;&#108;&#115;&#101;&#103;&#117;&#110;&#100;&#111;&#46;&#111;&#114;&#103;">rbooker@elsegundo.org</a> or call 310-524-2718.</p>
LOCATION:City of El Segundo Wiseburn Unified School District Aquatics Center\, 2240 E. Grand Ave. El Segundo\, California 90245
CLASS:PUBLIC
END:VEVENT
END:VCALENDAR
