BEGIN:VCALENDAR
VERSION:2.0
PRODID:El Segundo Calendar Creator
METHOD:PUBLISH
BEGIN:VEVENT
DTSTAMP:20241003T111410
DTSTART:20241026T173000
DTEND:20241026T193000
SUMMARY:Make Your Own Kind of Music: Owen Elliot-Kugell Shares Memories of Mama Cass Elliot
DESCRIPTION:<p>Author Owen Elliot-Kugell shares memories of her mother, the legendary Cass Elliot in this FREE program presented by the El Segundo Public Library. Award-winning photographer Henry Diltz accompanies Owen's recollections with his images from the heyday of the Laurel Canyon music scene of the 1960s.</p><p>A limited number of copies of her book "My Mama, Cass" will be available for purchase and signing.</p><p>This unforgettable event will take place in the El Segundo Performing Arts Center, located at 640 Main Street.</p><p>You may call the Reference Desk of the Library at 310-524-2728 for more information.</p><p>Please click <a href="https://www.elsegundolibrary.org/home/showdocument?id=9573" target="_blank">here</a> to view the event flyer.</p>
X-ALT-DESC;FMTTYPE=text/html:<p>Author Owen Elliot-Kugell shares memories of her mother, the legendary Cass Elliot in this FREE program presented by the El Segundo Public Library. Award-winning photographer Henry Diltz accompanies Owen's recollections with his images from the heyday of the Laurel Canyon music scene of the 1960s.</p><p>A limited number of copies of her book "My Mama, Cass" will be available for purchase and signing.</p><p>This unforgettable event will take place in the El Segundo Performing Arts Center, located at 640 Main Street.</p><p>You may call the Reference Desk of the Library at 310-524-2728 for more information.</p><p>Please click <a href="https://www.elsegundolibrary.org/home/showdocument?id=9573" target="_blank">here</a> to view the event flyer.</p>
LOCATION:El Segundo Performing Arts Center\, 640 Main Street El Segundo\, California 90245
CLASS:PUBLIC
END:VEVENT
END:VCALENDAR
