BEGIN:VCALENDAR
VERSION:2.0
PRODID:El Segundo Calendar Creator
METHOD:PUBLISH
BEGIN:VEVENT
DTSTAMP:20241003T101646
DTSTART:20241030T183000
DTEND:20241030T193000
SUMMARY:Evening Book Discussion Group
DESCRIPTION:<p>You are invited to join us for a discussion of "Tell the Wolves I'm Home" by Carol Rifka Brunt in the Library's Community Room.</p><p>Stop by the Reference Desk to reserve a copy.&nbsp; You may call us at 310-524-2728 for more information.</p>
X-ALT-DESC;FMTTYPE=text/html:<p>You are invited to join us for a discussion of "Tell the Wolves I'm Home" by Carol Rifka Brunt in the Library's Community Room.</p><p>Stop by the Reference Desk to reserve a copy.&nbsp; You may call us at 310-524-2728 for more information.</p>
LOCATION:El Segundo Public Library\, 111 W. Mariposa Avenue El Segundo\, California 90245
CLASS:PUBLIC
END:VEVENT
END:VCALENDAR
