BEGIN:VCALENDAR
VERSION:2.0
PRODID:El Segundo Calendar Creator
METHOD:PUBLISH
BEGIN:VEVENT
DTSTAMP:20241003T114813
DTSTART:20241019T133000
DTEND:20241019T150000
SUMMARY:Pumpkin Pool-ooza
DESCRIPTION:<p></p><p style="text-align: left;"></p><div unselectable="on" class="rrHandle rrSW" style="position: absolute; cursor: sw-resize; z-index: auto; height: 7px; width: 7px; top: 684.5px; left: 17.5px;"></div><div unselectable="on" class="rrHandle rrS" style="position: absolute; cursor: s-resize; z-index: auto; height: 7px; width: 7px; top: 684.5px; left: 556.5px;"></div><div unselectable="on" class="rrHandle rrSE" style="position: absolute; cursor: se-resize; z-index: auto; height: 7px; width: 7px; top: 684.5px; left: 1095.5px;"></div><div unselectable="on" class="rrHandle rrE" style="position: absolute; cursor: e-resize; z-index: auto; height: 7px; width: 7px; top: 351px; left: 1095.5px;"></div><div unselectable="on" class="rrHandle rrNE" style="position: absolute; cursor: ne-resize; z-index: auto; height: 7px; width: 7px; top: 17.5px; left: 1095.5px;"></div><div unselectable="on" class="rrHandle rrN" style="position: absolute; cursor: n-resize; z-index: auto; height: 7px; width: 7px; top: 17.5px; left: 556.5px;"></div><div unselectable="on" class="rrHandle rrNW" style="position: absolute; cursor: nw-resize; z-index: auto; height: 7px; width: 7px; top: 17.5px; left: 17.5px;"></div><div unselectable="on" class="rrHandle rrW" style="position: absolute; cursor: w-resize; z-index: auto; height: 7px; width: 7px; top: 351px; left: 17.5px;"></div><p style="text-align: left;"><span style="text-align: left;">Take a plunge in our floating pumpkin patch! Our annual Pumpkin Pool-ooza will be on Saturday, October 19</span><sup style="text-align: left;">th</sup><span style="text-align: left;">&nbsp;from 1:30 p.m. - 3:30 p.m. at the Aquatics Center.&nbsp;Come for the pumpkin pickin', stay for the pumpkin decorating, games raffles, and frightening good time!</span></p><p></p><div>Space is limited so please reserve your space  on <a href="https://secure.rec1.com/CA/el-segundo-ca/catalog" target="_blank">www.esrec.org</a>. For more information, please call 310-524-2738.</div><p>&nbsp;</p>
X-ALT-DESC;FMTTYPE=text/html:<p></p><p style="text-align: left;"></p><div unselectable="on" class="rrHandle rrSW" style="position: absolute; cursor: sw-resize; z-index: auto; height: 7px; width: 7px; top: 684.5px; left: 17.5px;"></div><div unselectable="on" class="rrHandle rrS" style="position: absolute; cursor: s-resize; z-index: auto; height: 7px; width: 7px; top: 684.5px; left: 556.5px;"></div><div unselectable="on" class="rrHandle rrSE" style="position: absolute; cursor: se-resize; z-index: auto; height: 7px; width: 7px; top: 684.5px; left: 1095.5px;"></div><div unselectable="on" class="rrHandle rrE" style="position: absolute; cursor: e-resize; z-index: auto; height: 7px; width: 7px; top: 351px; left: 1095.5px;"></div><div unselectable="on" class="rrHandle rrNE" style="position: absolute; cursor: ne-resize; z-index: auto; height: 7px; width: 7px; top: 17.5px; left: 1095.5px;"></div><div unselectable="on" class="rrHandle rrN" style="position: absolute; cursor: n-resize; z-index: auto; height: 7px; width: 7px; top: 17.5px; left: 556.5px;"></div><div unselectable="on" class="rrHandle rrNW" style="position: absolute; cursor: nw-resize; z-index: auto; height: 7px; width: 7px; top: 17.5px; left: 17.5px;"></div><div unselectable="on" class="rrHandle rrW" style="position: absolute; cursor: w-resize; z-index: auto; height: 7px; width: 7px; top: 351px; left: 17.5px;"></div><p style="text-align: left;"><span style="text-align: left;">Take a plunge in our floating pumpkin patch! Our annual Pumpkin Pool-ooza will be on Saturday, October 19</span><sup style="text-align: left;">th</sup><span style="text-align: left;">&nbsp;from 1:30 p.m. - 3:30 p.m. at the Aquatics Center.&nbsp;Come for the pumpkin pickin', stay for the pumpkin decorating, games raffles, and frightening good time!</span></p><p></p><div>Space is limited so please reserve your space  on <a href="https://secure.rec1.com/CA/el-segundo-ca/catalog" target="_blank">www.esrec.org</a>. For more information, please call 310-524-2738.</div><p>&nbsp;</p>
LOCATION:El Segundo Wiseburn Aquatics Center\, 2240 E. Grand Ave. El Segundo\, California 90245
CLASS:PUBLIC
END:VEVENT
END:VCALENDAR
