BEGIN:VCALENDAR
VERSION:2.0
PRODID:El Segundo Calendar Creator
METHOD:PUBLISH
BEGIN:VEVENT
DTSTAMP:20240930T114653
DTSTART:20241026T120000
DTEND:20241026T160000
SUMMARY:Halloween Frolic
DESCRIPTION:<p>&nbsp;&nbsp;</p><p>Join us at our annual Halloween Frolic on Saturday, October 26th from 12:00 p.m. - 4:00 p.m. on the 300 &amp; 400 blocks of Main Street. It will be a spook-tacular day filled with bounce houses, arts &amp; crafts, games, music, food, and more!<br><br>Wristbands will be available for $8.00 pre-sale starting on Tuesday, October 1st at the Clubhouse and Joslyn Center. Wristbands will also be available for $10.00 on the day of the event.&nbsp;</p><p>For more information, please call 310-524-2700.</p>
X-ALT-DESC;FMTTYPE=text/html:<p>&nbsp;&nbsp;</p><p>Join us at our annual Halloween Frolic on Saturday, October 26th from 12:00 p.m. - 4:00 p.m. on the 300 &amp; 400 blocks of Main Street. It will be a spook-tacular day filled with bounce houses, arts &amp; crafts, games, music, food, and more!<br><br>Wristbands will be available for $8.00 pre-sale starting on Tuesday, October 1st at the Clubhouse and Joslyn Center. Wristbands will also be available for $10.00 on the day of the event.&nbsp;</p><p>For more information, please call 310-524-2700.</p>
LOCATION:El Segundo City Hall\, 350 Main Street El Segundo\, California 90245
CLASS:PUBLIC
END:VEVENT
END:VCALENDAR
