BEGIN:VCALENDAR
VERSION:2.0
PRODID:El Segundo Calendar Creator
METHOD:PUBLISH
BEGIN:VEVENT
DTSTAMP:20240909T105428
DTSTART:20240923T090000
DTEND:20240927T150000
SUMMARY:Nutrition Pantry Drive for United Against Hate Week
DESCRIPTION:<p>As part of <a href="https://www.elsegundo.org/Home/Components/News/News/3456/268327" target="_blank">United Against Hate Week</a> (UAHW), from September 21 - 27, 2024, El Segundo is participating in the South Bay Community Coalition Against Hate's Nutrition Pantry Drive. Donations benefit the&nbsp;<a href="https://www.singlemomproject.org/" target="_blank">Single Mom's Project</a>&nbsp;and Richstone Family Center which distributes food twice a week to single mothers.</p><p>Drop off a donation of canned beans, tomatoes, corn and meat, chicken/vegetable stock, flour, Maseca, dried beans, rice, pasta, cereal, granola bars, sugar or oil at collection boxes during business hours from 9:00 a.m. Monday, September 23 to 3:00 p.m. Friday, September 27.</p><p>Donation locations include:</p><p><strong><a href="https://www.elsegundolibrary.org/" target="_blank">El Segundo Public Library</a><br>111 W. Mariposa Ave., El Segundo, CA 90245</strong><br><br>Hermosa Beach City School District<br>1645 Valley Drive, Hermosa Beach, CA 90254<br><br>Hermosa Beach Police Department<br>540 Pier Avenue, Hermosa Beach, CA 90254<br><br>Redondo Beach Fire Station #1<br>401 S. Broadway, Redondo Beach, CA 90277<br><br>Redondo Beach Fire Station #2<br>2400 Grant Ave., Redondo Beach, CA 90278<br><br>Manhattan Beach Fire Station #1<br>400 15th Street, Manhattan Beach, CA 90266<br><br>Manhattan Beach Unified School District<br>325 S. Peck Ave., Manhattan Beach, CA 90266</p><p>Click here for information about <a href="https://www.elsegundo.org/Home/Components/News/News/3456/268327" target="_blank">United Against Hate Week activities taking place in El Segundo</a> and across the South Bay.</p><p><br><div></div></p>
X-ALT-DESC;FMTTYPE=text/html:<p>As part of <a href="https://www.elsegundo.org/Home/Components/News/News/3456/268327" target="_blank">United Against Hate Week</a> (UAHW), from September 21 - 27, 2024, El Segundo is participating in the South Bay Community Coalition Against Hate's Nutrition Pantry Drive. Donations benefit the&nbsp;<a href="https://www.singlemomproject.org/" target="_blank">Single Mom's Project</a>&nbsp;and Richstone Family Center which distributes food twice a week to single mothers.</p><p>Drop off a donation of canned beans, tomatoes, corn and meat, chicken/vegetable stock, flour, Maseca, dried beans, rice, pasta, cereal, granola bars, sugar or oil at collection boxes during business hours from 9:00 a.m. Monday, September 23 to 3:00 p.m. Friday, September 27.</p><p>Donation locations include:</p><p><strong><a href="https://www.elsegundolibrary.org/" target="_blank">El Segundo Public Library</a><br>111 W. Mariposa Ave., El Segundo, CA 90245</strong><br><br>Hermosa Beach City School District<br>1645 Valley Drive, Hermosa Beach, CA 90254<br><br>Hermosa Beach Police Department<br>540 Pier Avenue, Hermosa Beach, CA 90254<br><br>Redondo Beach Fire Station #1<br>401 S. Broadway, Redondo Beach, CA 90277<br><br>Redondo Beach Fire Station #2<br>2400 Grant Ave., Redondo Beach, CA 90278<br><br>Manhattan Beach Fire Station #1<br>400 15th Street, Manhattan Beach, CA 90266<br><br>Manhattan Beach Unified School District<br>325 S. Peck Ave., Manhattan Beach, CA 90266</p><p>Click here for information about <a href="https://www.elsegundo.org/Home/Components/News/News/3456/268327" target="_blank">United Against Hate Week activities taking place in El Segundo</a> and across the South Bay.</p><p><br><div></div></p>
LOCATION:El Segundo Public Library\, 111 W. Mariposa Avenue El Segundo\, California 90245
CLASS:PUBLIC
END:VEVENT
END:VCALENDAR
