BEGIN:VCALENDAR
VERSION:2.0
PRODID:El Segundo Calendar Creator
METHOD:PUBLISH
BEGIN:VEVENT
DTSTAMP:20240905T154407
DTSTART:20240918T180000
DTEND:20240918T200000
SUMMARY:Evening Book Tasting
DESCRIPTION:<p direction-ltr="" align-center="" para-style-body"="">Sample a curated selection of literary genres from El Segundo Public Library’s literary buffet. Staff will guide you through the genre menu. Join other readers to discuss and discover what pleases your literary palate in the relaxed, convivial atmosphere at Richmond Bar &amp; Grill.</p><p direction-ltr="" align-center="" para-style-body"="">Space is limited - reservations required - 18 &amp; over only.&nbsp; RSVP for this free event at El Segundo Public Library by calling the Reference Desk at 310-524-2728.</p><p direction-ltr="" align-center="" para-style-body"=""><a href="https://www.elsegundolibrary.org/home/showdocument?id=9423&amp;t=638611470031515481" target="_blank">Click here</a> to view the flyer.</p>
X-ALT-DESC;FMTTYPE=text/html:<p direction-ltr="" align-center="" para-style-body"="">Sample a curated selection of literary genres from El Segundo Public Library’s literary buffet. Staff will guide you through the genre menu. Join other readers to discuss and discover what pleases your literary palate in the relaxed, convivial atmosphere at Richmond Bar &amp; Grill.</p><p direction-ltr="" align-center="" para-style-body"="">Space is limited - reservations required - 18 &amp; over only.&nbsp; RSVP for this free event at El Segundo Public Library by calling the Reference Desk at 310-524-2728.</p><p direction-ltr="" align-center="" para-style-body"=""><a href="https://www.elsegundolibrary.org/home/showdocument?id=9423&amp;t=638611470031515481" target="_blank">Click here</a> to view the flyer.</p>
LOCATION:El Segundo Public Library\, 111 W. Mariposa Avenue El Segundo\, California 90245
CLASS:PUBLIC
END:VEVENT
END:VCALENDAR
