BEGIN:VCALENDAR
VERSION:2.0
PRODID:El Segundo Calendar Creator
METHOD:PUBLISH
BEGIN:VEVENT
DTSTAMP:20240826T131831
DTSTART:20240826T000000
DTEND:20240912T235900
SUMMARY:United Against Hate Week Poster Design Contest
DESCRIPTION:<p>Calling all artists! El Segundo residents are invited to participate in a community poster design contest in honor of United Against Hate Week! This contest is sponsored by the Diversity, Equity, and Inclusion Committee and is open to El Segundo residents of all ages. Showcase your creativity and spread a message of unity!</p><p>Create a 11"x17" poster (300 dots per inch in either JPG, PNG, or PDF) including "El Segundo Stands United Against Hate" and the year "2024". The submissions will be judged in three categories: Youth (Under 18), Adult, and Family. Winners will be awarded recognition by City Council, a prize basket, and distribution of the poster around the city.</p><p>Submissions are due by September 12th — email questions and submissions to <a href="mailto:&#101;&#108;&#115;&#101;&#103;&#117;&#110;&#100;&#111;&#117;&#110;&#105;&#116;&#101;&#100;&#97;&#103;&#97;&#105;&#110;&#115;&#116;&#104;&#97;&#116;&#101;&#119;&#101;&#101;&#107;&#64;&#103;&#109;&#97;&#105;&#108;&#46;&#99;&#111;&#109;">elsegundounitedagainsthateweek@gmail.com</a>.</p><p></p>
X-ALT-DESC;FMTTYPE=text/html:<p>Calling all artists! El Segundo residents are invited to participate in a community poster design contest in honor of United Against Hate Week! This contest is sponsored by the Diversity, Equity, and Inclusion Committee and is open to El Segundo residents of all ages. Showcase your creativity and spread a message of unity!</p><p>Create a 11"x17" poster (300 dots per inch in either JPG, PNG, or PDF) including "El Segundo Stands United Against Hate" and the year "2024". The submissions will be judged in three categories: Youth (Under 18), Adult, and Family. Winners will be awarded recognition by City Council, a prize basket, and distribution of the poster around the city.</p><p>Submissions are due by September 12th — email questions and submissions to <a href="mailto:&#101;&#108;&#115;&#101;&#103;&#117;&#110;&#100;&#111;&#117;&#110;&#105;&#116;&#101;&#100;&#97;&#103;&#97;&#105;&#110;&#115;&#116;&#104;&#97;&#116;&#101;&#119;&#101;&#101;&#107;&#64;&#103;&#109;&#97;&#105;&#108;&#46;&#99;&#111;&#109;">elsegundounitedagainsthateweek@gmail.com</a>.</p><p></p>
LOCATION:
CLASS:PUBLIC
END:VEVENT
END:VCALENDAR
