BEGIN:VCALENDAR
VERSION:2.0
PRODID:El Segundo Calendar Creator
METHOD:PUBLISH
BEGIN:VEVENT
DTSTAMP:20240925T112229
DTSTART:20240926T180000
DTEND:20240926T190000
SUMMARY:Candlelight Vigil for United Against Hate Week
DESCRIPTION:<p>&nbsp;</p><p>Join us for a candlelight vigil in Library Park for <a href="https://www.elsegundo.org/Home/Components/News/News/3456/268327" target="_blank">United Against Hate Week</a>.</p><p><div>Thursday, September 26, 2024</div><div>6:00 p.m. - 7:00 p.m.</div><div>Library Park</div><div>&nbsp;</div><div>Pick up posters, hear from fellow community members and light candles all to show your commitment to stand united against hate and build a bright El Segundo.</div><div>&nbsp;</div><div>Program begins at 6:15 p.m. Candles provided or bring your own. Hosted by the El Segundo <a href="https://www.elsegundorecparks.org/programs-services/diversity-equity-and-inclusion-committee" target="_blank">Diversity Equity and Inclusion Committee</a>.</div><div>&nbsp;</div><div>You can enjoy El Segundo's Farmers Market beforehand, and ESUSD and Rotary Club of El Segundo are hosting a Peace Pole dedication at El Segundo High School (across the street from Library Park) from 5:00 p.m. to 5:30 p.m.</div><div>&nbsp;</div><div>Click here for information about&nbsp;<a href="https://www.elsegundo.org/Home/Components/News/News/3456/268327" target="_blank">United Against Hate Week activities taking place in El Segundo</a>&nbsp;and across the South Bay.</div><p>&nbsp;</p><p></p><p>&nbsp;</p></p>
X-ALT-DESC;FMTTYPE=text/html:<p>&nbsp;</p><p>Join us for a candlelight vigil in Library Park for <a href="https://www.elsegundo.org/Home/Components/News/News/3456/268327" target="_blank">United Against Hate Week</a>.</p><p><div>Thursday, September 26, 2024</div><div>6:00 p.m. - 7:00 p.m.</div><div>Library Park</div><div>&nbsp;</div><div>Pick up posters, hear from fellow community members and light candles all to show your commitment to stand united against hate and build a bright El Segundo.</div><div>&nbsp;</div><div>Program begins at 6:15 p.m. Candles provided or bring your own. Hosted by the El Segundo <a href="https://www.elsegundorecparks.org/programs-services/diversity-equity-and-inclusion-committee" target="_blank">Diversity Equity and Inclusion Committee</a>.</div><div>&nbsp;</div><div>You can enjoy El Segundo's Farmers Market beforehand, and ESUSD and Rotary Club of El Segundo are hosting a Peace Pole dedication at El Segundo High School (across the street from Library Park) from 5:00 p.m. to 5:30 p.m.</div><div>&nbsp;</div><div>Click here for information about&nbsp;<a href="https://www.elsegundo.org/Home/Components/News/News/3456/268327" target="_blank">United Against Hate Week activities taking place in El Segundo</a>&nbsp;and across the South Bay.</div><p>&nbsp;</p><p></p><p>&nbsp;</p></p>
LOCATION:Library Park\, 600 Block of Main Street El Segundo\, California 90245
CLASS:PUBLIC
END:VEVENT
END:VCALENDAR
