BEGIN:VCALENDAR
VERSION:2.0
PRODID:El Segundo Calendar Creator
METHOD:PUBLISH
BEGIN:VEVENT
DTSTAMP:20241015T115819
DTSTART:20241016T150000
DTEND:20241016T154500
SUMMARY:CANCELED Wonderful Wednesdays
DESCRIPTION:&nbsp;
X-ALT-DESC;FMTTYPE=text/html:&nbsp;
LOCATION:El Segundo Public Library\, 111 W. Mariposa Avenue El Segundo\, California 90245
CLASS:PUBLIC
END:VEVENT
END:VCALENDAR
