BEGIN:VCALENDAR
VERSION:2.0
PRODID:El Segundo Calendar Creator
METHOD:PUBLISH
BEGIN:VEVENT
DTSTAMP:20240823T121459
DTSTART:20240824T150000
DTEND:20240824T200000
SUMMARY:Special Fine Art Print Sale of "The Plunge"
DESCRIPTION:<p direction-ltr="" align-justify="" para-style-body"="">As part of Curtis Green’s exhibition, “<strong>El Segundo: Second Look</strong>,” at the El Segundo Public Library, a limited edition of fine art prints (15" x 30") will be available for a purchase price of $400 during this year’s Art Walk. The prints are high-quality reproductions of his painting, “Ultramarine,” which depicts the iconic Urho Saari Swim Stadium, affectionately called “The Plunge.”</p><p direction-ltr="" align-justify="" para-style-body"="">The Plunge is a cherished landmark in El Segundo and is currently undergoing a transformative renovation to better serve the community while still preserving its historic charm. A portion of the proceeds from the “Ultramarine” print sales will go towards The Plunge Capital Campaign in support of updating this historical landmark in El Segundo!</p><p>You may contact Randy Niessen, Cultural Arts Coordinator, at 310-524-2702 for further details.</p><p><a href="https://www.elsegundolibrary.org/home/showdocument?id=9185&amp;t=638590826327180883" target="_blank">Click here</a>&nbsp;to view the flyer for more information.</p>
X-ALT-DESC;FMTTYPE=text/html:<p direction-ltr="" align-justify="" para-style-body"="">As part of Curtis Green’s exhibition, “<strong>El Segundo: Second Look</strong>,” at the El Segundo Public Library, a limited edition of fine art prints (15" x 30") will be available for a purchase price of $400 during this year’s Art Walk. The prints are high-quality reproductions of his painting, “Ultramarine,” which depicts the iconic Urho Saari Swim Stadium, affectionately called “The Plunge.”</p><p direction-ltr="" align-justify="" para-style-body"="">The Plunge is a cherished landmark in El Segundo and is currently undergoing a transformative renovation to better serve the community while still preserving its historic charm. A portion of the proceeds from the “Ultramarine” print sales will go towards The Plunge Capital Campaign in support of updating this historical landmark in El Segundo!</p><p>You may contact Randy Niessen, Cultural Arts Coordinator, at 310-524-2702 for further details.</p><p><a href="https://www.elsegundolibrary.org/home/showdocument?id=9185&amp;t=638590826327180883" target="_blank">Click here</a>&nbsp;to view the flyer for more information.</p>
LOCATION:El Segundo Public Library\, 111 W. Mariposa Avenue El Segundo\, California 90245
CLASS:PUBLIC
END:VEVENT
END:VCALENDAR
