BEGIN:VCALENDAR
VERSION:2.0
PRODID:El Segundo Calendar Creator
METHOD:PUBLISH
BEGIN:VEVENT
DTSTAMP:20240725T121248
DTSTART:20240803T140000
DTEND:20240803T153000
SUMMARY:El Segundo History Committee Open House
DESCRIPTION:<p>The El Segundo History Committee will present an opportunity for the public to view photographs, clippings, maps and other memorabilia in the library’s History Room.&nbsp;&nbsp;</p><p>As an added bonus, Committee members will participate in a discussion that features historic community sites. Local artist Curtis Green will contribute by revealing the inspiration behind his latest works “Second Look,” which focus on iconic structures in El Segundo, now on display this month in the library’s Reading Lounge.</p><p><a href="https://www.elsegundolibrary.org/home/showdocument?id=9109&amp;t=638575060418254010" target="_blank">Click here</a> to view the flyer.</p><p>For more information please contact the Reference Desk at 310-524-2728.</p>
X-ALT-DESC;FMTTYPE=text/html:<p>The El Segundo History Committee will present an opportunity for the public to view photographs, clippings, maps and other memorabilia in the library’s History Room.&nbsp;&nbsp;</p><p>As an added bonus, Committee members will participate in a discussion that features historic community sites. Local artist Curtis Green will contribute by revealing the inspiration behind his latest works “Second Look,” which focus on iconic structures in El Segundo, now on display this month in the library’s Reading Lounge.</p><p><a href="https://www.elsegundolibrary.org/home/showdocument?id=9109&amp;t=638575060418254010" target="_blank">Click here</a> to view the flyer.</p><p>For more information please contact the Reference Desk at 310-524-2728.</p>
LOCATION:El Segundo Public Library\, 111 W. Mariposa Avenue El Segundo\, California 90245
CLASS:PUBLIC
END:VEVENT
END:VCALENDAR
