BEGIN:VCALENDAR
VERSION:2.0
PRODID:El Segundo Calendar Creator
METHOD:PUBLISH
BEGIN:VEVENT
DTSTAMP:20240717T093421
DTSTART:20240723T153000
DTEND:20240723T161500
SUMMARY:Community Storytime
DESCRIPTION:<p>City of El Segundo Community Development presents: Community Storytime</p><p direction-ltr="" align-center="" para-style-body"="">Thursday, July 25, 2024<br>3:30 - 4:15 p.m.<br>Sue Carter Community Room</p><p direction-ltr="" align-center="" para-style-body"="">Join us for Community Storytime at the El Segundo Public Library!</p><p direction-ltr="" align-center="" para-style-body"="">Children ages 5-10 and their caregivers are invited to enjoy stories and learn about careers in Community Development.</p>
X-ALT-DESC;FMTTYPE=text/html:<p>City of El Segundo Community Development presents: Community Storytime</p><p direction-ltr="" align-center="" para-style-body"="">Thursday, July 25, 2024<br>3:30 - 4:15 p.m.<br>Sue Carter Community Room</p><p direction-ltr="" align-center="" para-style-body"="">Join us for Community Storytime at the El Segundo Public Library!</p><p direction-ltr="" align-center="" para-style-body"="">Children ages 5-10 and their caregivers are invited to enjoy stories and learn about careers in Community Development.</p>
LOCATION:El Segundo Public Library\, 111 W. Mariposa Avenue El Segundo\, California 90245
CLASS:PUBLIC
END:VEVENT
END:VCALENDAR
