BEGIN:VCALENDAR
VERSION:2.0
PRODID:El Segundo Calendar Creator
METHOD:PUBLISH
BEGIN:VEVENT
DTSTAMP:20240711T113145
DTSTART:20240718T153000
DTEND:20240718T163000
SUMMARY:Game Break
DESCRIPTION:Thursday, June 18, 2024<br>3:30 - 4:15 PM<br>Come try out our oversized games and table games with your friends! No registration required.&nbsp;<br>For Ages 5-10. Children 8 and under must be&nbsp;<br>accompanied by an adult caregiver.&nbsp;
X-ALT-DESC;FMTTYPE=text/html:Thursday, June 18, 2024<br>3:30 - 4:15 PM<br>Come try out our oversized games and table games with your friends! No registration required.&nbsp;<br>For Ages 5-10. Children 8 and under must be&nbsp;<br>accompanied by an adult caregiver.&nbsp;
LOCATION:El Segundo Public Library\, 111 W. Mariposa Avenue El Segundo\, California 90245
CLASS:PUBLIC
END:VEVENT
END:VCALENDAR
