BEGIN:VCALENDAR
VERSION:2.0
PRODID:El Segundo Calendar Creator
METHOD:PUBLISH
BEGIN:VEVENT
DTSTAMP:20240710T092642
DTSTART:20240727T170000
DTEND:20240727T190000
SUMMARY:One Book One County Author Talk
DESCRIPTION:Join the largest book club in L.A.&nbsp; One Book, One County presents author Maria Amparo Escandon discussing her book L.A. Weather on Saturday, July 27th, from 5-7pm.&nbsp; Come in person to Gloria Molina Grand Park in Downtown L.A., or view virtually by <a href="https://www.youtube.com/live/lpyeaTvjqpI?si=_lJhAquY36PEpmKI" target="_blank">clicking here</a>.
X-ALT-DESC;FMTTYPE=text/html:Join the largest book club in L.A.&nbsp; One Book, One County presents author Maria Amparo Escandon discussing her book L.A. Weather on Saturday, July 27th, from 5-7pm.&nbsp; Come in person to Gloria Molina Grand Park in Downtown L.A., or view virtually by <a href="https://www.youtube.com/live/lpyeaTvjqpI?si=_lJhAquY36PEpmKI" target="_blank">clicking here</a>.
LOCATION:El Segundo Public Library\, 111 W. Mariposa Avenue El Segundo\, California 90245
CLASS:PUBLIC
END:VEVENT
END:VCALENDAR
